BEGIN:VCALENDAR
VERSION:2.0
CALSCALE:GREGORIAN
PRODID:adamgibbons/ics
METHOD:PUBLISH
X-PUBLISHED-TTL:PT1H
BEGIN:VEVENT
UID:625@backend.prikbord.page
SUMMARY:2QTs Beyond the Binary
DTSTAMP:20260420T172301Z
DTSTART:20260421T170000Z
DTEND:20260421T193000Z
DESCRIPTION:WHAT: 2QTs Beyond the Binary\nWHEN: 21th of April\, 19:00 - 21:
	30\nWHERE: Teilingerstraat 120\n\n2QT (pronounced too cutie) stands for Qu
	eer Questioning (and/or) Trans\, not\nnecessarily in that order\, and we l
	ike to go Beyond the (gender) Binary!\n\nAre you trans/genderfluid/non-bin
	ary/agender/questioning/insert non-cis identity\nhere? In short\, non-cis 
	gendered? Then this support group is for you! And we\nwould like to invite
	 you to come together and talk about stuff and share\nstories.\n\nThis sup
	port group is organised by Queer Rotterdam and led by Lu! Together with\nt
	he amazing Sam\, we are ready to explore gender and "queer stuff" with the
	\ncommunity.\n\nWe are very happy to be able to host this support group at
	 the Queer Rotterdam\nspace and add to the amazing effort of community bui
	lding happening there. There\nis an elevator to go upstairs for all our qu
	eer crips\, we will do everything in\nour power to accommodate your needs 
	but technical difficulties are always an\noption unfortunately (you can ch
	eck in if needed before the event starts and we\ncan give a heads up about
	 the current state of the elevator).\n\nI would like to ask everyone who i
	ntends to attend to sign up for the meeting\nvia our website (queerrotterd
	am.nl [http://queerrotterdam.nl])\, that way we can\nensure there are enou
	gh cookies and coffee for everyone! It also REALLY helps us\nplan our meet
	ings.\n\nWe also want to say that if it is your first time and you are uns
	ure about the\nmeeting\, you can always contact us via email or DM and we 
	can arrange a buddy\nfor you to come with or for you to arrive early and m
	eet/talk to the organizers.\nAnd if you have any questions\, feel free to 
	send an email to\ninfo@queerrotterdam.nl [info@queerrotterdam.nl]
URL:https://backend.prikbord.page/event/2qts-beyond-the-binary
LOCATION:Time Window - Time Window Teilingerstraat 120  Rotterdam Netherlan
	ds
STATUS:CONFIRMED
CATEGORIES:libspeciaal::source::radar,category::course/workshop,libspeciaal
	::source::radar::rdam-alt-events,libspeciaal::price::free,libspeciaal::uid
	::9c2561f0-129c-4a22-a287-92fdac0a4c74,libspeciaal::lastmod::1775995654,li
	bspeciaal::url::https://radar.squat.net/en/event/rotterdam/rotterdam-alter
	native-events/2026-04-21/2qts-beyond-binary
X-ALT-DESC;FMTTYPE=text/html:<p>WHAT: 2QTs Beyond the Binary<br>WHEN: 21th 
	of April, 19:00 - 21:30<br>WHERE: Teilingerstraat 120<br><br>2QT (pronounc
	ed too cutie) stands for Queer Questioning (and/or) Trans, not necessarily
	 in that order, and we like to go Beyond the (gender) Binary!<br><br>Are y
	ou trans/genderfluid/non-binary/agender/questioning/insert non-cis identit
	y here? In short, non-cis gendered? Then this support group is for you! An
	d we would like to invite you to come together and talk about stuff and sh
	are stories.<br><br>This support group is organised by Queer Rotterdam and
	 led by Lu! Together with the amazing Sam, we are ready to explore gender 
	and "queer stuff" with the community.<br><br>We are very happy to be able 
	to host this support group at the Queer Rotterdam space and add to the ama
	zing effort of community building happening there. There is an elevator to
	 go upstairs for all our queer crips, we will do everything in our power t
	o accommodate your needs but technical difficulties are always an option u
	nfortunately (you can check in if needed before the event starts and we ca
	n give a heads up about the current state of the elevator).<br><br>I would
	 like to ask everyone who intends to attend to sign up for the meeting via
	 our website (<a href="http://queerrotterdam.nl" target="_blank">queerrott
	erdam.nl</a>), that way we can ensure there are enough cookies and coffee 
	for everyone! It also REALLY helps us plan our meetings.<br><br>We also wa
	nt to say that if it is your first time and you are unsure about the meeti
	ng, you can always contact us via email or DM and we can arrange a buddy f
	or you to come with or for you to arrive early and meet/talk to the organi
	zers. And if you have any questions, feel free to send an email to <a href
	="mailto:info@queerrotterdam.nl">info@queerrotterdam.nl</a></p><br>
BEGIN:VALARM
ACTION:DISPLAY
DESCRIPTION:2QTs Beyond the Binary
TRIGGER:-PT1H
END:VALARM
END:VEVENT
END:VCALENDAR
