BEGIN:VCALENDAR
VERSION:2.0
CALSCALE:GREGORIAN
PRODID:adamgibbons/ics
METHOD:PUBLISH
X-PUBLISHED-TTL:PT1H
BEGIN:VEVENT
UID:602@backend.prikbord.page
SUMMARY:General assembly and introduction moment
DTSTAMP:20260420T203552Z
DTSTART:20260510T150000Z
DTEND:20260510T180000Z
DESCRIPTION:Join BuurToren and the housing struggle in Rotterdam! Come join
	 us and discover\nhow you can contribute to the fight to reclaim public ho
	using in our beautiful\ncity.\n\nEvery Sunday\, between 18:00 and 20:00\, 
	participants gather for our general\nweekly meeting. BuurToren always need
	s active participants to move forward. Our\ngeneral weekkly meeting is a t
	ime to discuss proposals\, get to know each other\,\nshare tasks\, and pla
	n the coming weeks. We organize ourselves non-hierarchically\nand make dec
	isions based on consensus and by voting when necessary.\n\nBefore the gene
	ral assembly\, we hold an introductory meeting for those\ninterested to jo
	in. The introduction will take place at 17.00. Attendance is\nrequired for
	 new participants\, so you'll immediately understand what we stand\nfor\, 
	our values\, and our working methods. After attending the introduction\, y
	ou\ncan go directly to the general meeting\, which starts at 6:00 PM. We a
	sk that\nthose interested register for the introductory meeting by emailin
	g\nbuurtoren@riseup.net [buurtoren@riseup.net].
URL:https://backend.prikbord.page/event/general-assembly-and-introduction-m
	oment-10
LOCATION:Rotterdam - Rotterdam
STATUS:CONFIRMED
CATEGORIES:libspeciaal::source::radar,libspeciaal::lastmod::1763932165,libs
	peciaal::source::radar::buurtoren,category::meeting,libspeciaal::price::fr
	ee,libspeciaal::link::https://buurtoren.nl,libspeciaal::email::buurtoren@r
	iseup.net,libspeciaal::uid::cb084021-cd82-43f6-bf19-11637245c6e4,libspecia
	al::url::https://radar.squat.net/en/event/buurtoren/2026-05-10/general-ass
	embly-and-introduction-moment
X-ALT-DESC;FMTTYPE=text/html:<p>Join BuurToren and the housing struggle in 
	Rotterdam! Come join us and discover how you can contribute to the fight t
	o reclaim public housing in our beautiful city.</p><br><p>Every Sunday, be
	tween 18:00 and 20:00, participants gather for our general weekly meeting.
	 BuurToren always needs active participants to move forward. Our general w
	eekkly meeting is a time to discuss proposals, get to know each other, sha
	re tasks, and plan the coming weeks. We organize ourselves non-hierarchica
	lly and make decisions based on consensus and by voting when necessary.</p
	><br><p>Before the general assembly, we hold an introductory meeting for t
	hose interested to join. The introduction will take place at 17.00. Attend
	ance is required for new participants, so you'll immediately understand wh
	at we stand for, our values, and our working methods. After attending the 
	introduction, you can go directly to the general meeting, which starts at 
	6:00 PM. We ask that those interested register for the introductory meetin
	g by emailing <a href="mailto:buurtoren@riseup.net">buurtoren@riseup.net</
	a>.</p><br>
BEGIN:VALARM
ACTION:DISPLAY
DESCRIPTION:General assembly and introduction moment
TRIGGER:-PT1H
END:VALARM
END:VEVENT
END:VCALENDAR
