BEGIN:VCALENDAR
VERSION:2.0
CALSCALE:GREGORIAN
PRODID:adamgibbons/ics
METHOD:PUBLISH
X-PUBLISHED-TTL:PT1H
BEGIN:VEVENT
UID:610@backend.prikbord.page
SUMMARY:☕ Open living room
DTSTAMP:20260420T203739Z
DTSTART:20260515T100000Z
DTEND:20260515T150000Z
DESCRIPTION:Stop by for free coffee or tea\, find some community\, use our 
	wifi\, finish that\nessay\, or just get some work done in a chill environm
	ent with many couches and\ntables. There is also a toilet\, and a microwav
	e you can warm up your food in. De\nPetteflet is a vegetarian space\, so p
	lease do not bring any meat or fish.
URL:https://backend.prikbord.page/event/hot-beverage-open-living-room-7
LOCATION:Petteflet - Petteflet Havenstraat 23A  Rotterdam Netherlands
STATUS:CONFIRMED
CATEGORIES:libspeciaal::source::radar,category::work space/diy,category::ba
	r/cafe,libspeciaal::source::radar::petteflet,libspeciaal::lastmod::1774869
	931,libspeciaal::uid::805a228d-669f-4911-be73-e34a0dc0e8c7,libspeciaal::ur
	l::https://radar.squat.net/en/event/rotterdam/petteflet/2026-05-15/open-li
	ving-room
X-ALT-DESC;FMTTYPE=text/html:<p>Stop by for free coffee or tea, find some c
	ommunity, use our wifi, finish that essay, or just get some work done in a
	 chill environment with many couches and tables. There is also a toilet, a
	nd a microwave you can warm up your food in. De Petteflet is a vegetarian 
	space, so please do not bring any meat or fish.</p><br>
BEGIN:VALARM
ACTION:DISPLAY
DESCRIPTION:☕ Open living room
TRIGGER:-PT1H
END:VALARM
END:VEVENT
END:VCALENDAR
