BEGIN:VCALENDAR
VERSION:2.0
CALSCALE:GREGORIAN
PRODID:adamgibbons/ics
METHOD:PUBLISH
X-PUBLISHED-TTL:PT1H
BEGIN:VEVENT
UID:605@backend.prikbord.page
SUMMARY:Open Werkplaats
DTSTAMP:20260420T215718Z
DTSTART:20260519T160000Z
DTEND:20260519T190000Z
DESCRIPTION:Open workshop hours: visitors can come to learn to fix their ow
	n bikes.\nVolunteers are there to help\, no previous knowledge is required
	! Opening and\nwelcome space\, anti-judgement :) No mansplaining allowed \
	n\nAll tools are accessible and shared\, spare parts can be used\, new bik
	es can be\nmade.  All donation based
URL:https://backend.prikbord.page/event/open-werkplaats-24
GEO:51.9304095;4.4720642
LOCATION:Doe-het-zelf Werkplaats - Doe-het-zelf Werkplaats Schout Heynricst
	raat  Rotterdam Nederland
STATUS:CONFIRMED
CATEGORIES:libspeciaal::source::radar,category::work space/diy,category::ad
	vice/help/office hours,libspeciaal::price::free,libspeciaal::price::by don
	ation,libspeciaal::source::radar::dhz-werkplaats,libspeciaal::lastmod::177
	4626737,libspeciaal::link::https://radar.squat.net/en/doehetzelfwerkplaats
	.space,libspeciaal::email::doehetzelfwerkplaats@gmail.com,libspeciaal::uid
	::39ad9b2d-4f9f-4a99-b89e-e082831fcf2e,libspeciaal::url::https://radar.squ
	at.net/en/event/rotterdam/doe-het-zelf-werkplaats/2026-05-19/open-werkplaa
	ts
X-ALT-DESC;FMTTYPE=text/html:<p>Open workshop hours: visitors can come to l
	earn to fix their own bikes. Volunteers are there to help, no previous kno
	wledge is required! Opening and welcome space, anti-judgement :) No manspl
	aining allowed&nbsp;</p><br><p>All tools are accessible and shared, spare 
	parts can be used, new bikes can be made.&nbsp; All donation based</p><br>
BEGIN:VALARM
ACTION:DISPLAY
DESCRIPTION:Open Werkplaats
TRIGGER:-PT1H
END:VALARM
END:VEVENT
END:VCALENDAR
