BEGIN:VCALENDAR
VERSION:2.0
CALSCALE:GREGORIAN
PRODID:adamgibbons/ics
METHOD:PUBLISH
X-PUBLISHED-TTL:PT1H
BEGIN:VEVENT
UID:612@backend.prikbord.page
SUMMARY:Reticulum/Networking/Linux walk-in hours
DTSTAMP:20260420T174322Z
DTSTART:20260422T161500Z
DTEND:20260422T190000Z
DESCRIPTION:Two weeks ago we explored what it's like to message each other 
	on reticulum via\ncolumba\, attempted (and completely failed) to improve t
	he wi-fi setup at\nPetteflet and brainstormed on what an anarchist tech re
	search/educational\ninstitute could look like and also what this event is 
	even about. What's gonna\nhappen this time? That's up to you!\n\n---------
	--------------------------------------------------------------------------
	---------------------------------------------------------\n\n 1. The city\
	n\nWe plug in the ethernet cable into the wi-fi antenna we just set up and
	 watch\nthe LEDs light up. Six blue lights\, full troughput. We sense the 
	data pouring\ntrough the fiber veins of the city. A digital mycelium netwo
	rk of pulsating\nlight\, information exchange - right under our sidewalks\
	, houses\, roads. Data\nflowing trough undersea cables\, copper wires\, an
	d the ether\, finally terminating\nin a small box attached to the roof of 
	the squat. Data - immaterial\,\nuntouchable\, abstract and immune to the c
	old December wind that's been bothering\nus for the last hour.\nOn another
	 roof down the street an identical wi-fi antenna senses a new\npresence. T
	he loneliness is over\, time to say hi\, perform a handshake and begin\na 
	quiet radio conversation. Six blue lights.\n\nDo you dare to take control 
	of the infrastructure you and your communities rely\non? To float through 
	the rotting arteries the information superhighway? To tune\ninto the repul
	sive control exerted by the 'smart' city\, by the neoliberal\nsanitation o
	f the old joyous internet? To make it your playground? Abandon your\nhuman
	 senses and become the machine?\n\n2. The n00b\n\nOr maybe you just want t
	o play and figure out what a router does\, how it works\,\nand how you can
	 use it for your own goals? Or better yet\, finally say goodbye to\nthe su
	rveillance-packed dumpster fire called Windows 11/Mac OS and take back\nco
	ntrol over your devices?\n\nEither way\, come to Petteflet on a wednesday 
	evening to discover the freedom of\nhacking software and hardware and recl
	aim your digital autonomy. All skill\nlevels welcome and no previous exper
	ience required. Bring a funky gender and\nsprinkle some social awkwardness
	 on top. This is your walk-in hours for\neverything remotely computing rel
	ated. Except issues with Windows/macOS. That\nshit's beyond repair.\n\n3. 
	The SNOT\n\nA Squatter Network Operations Technician breaks more things th
	an they fix. They\ncut the wrong cables\, freestyle configurations and dro
	p their laptop in a pond.\nThey release magic smoke from devices in an att
	empt to bring them to life. Use\nthe wrong tools for the job all the time.
	 Eventually though a SNOT arrives at an\nanswer to the question they thems
	elves posed and sometimes even understands how\nthey got there. And occasi
	onally they come up with something useful.\n\nJoin the ranks of highly 313
	37 Squatter Network Operations Team and bite the\ntechnofeudalist hand tha
	t disciplines us. This is your moment to get into\nnetworking and build th
	e infrastructures of tomorrow. \n\nNo matter where you go\, everybody's co
	nnected. \n\nimage source: hackers (1995)
URL:https://backend.prikbord.page/event/reticulumnetworkinglinux-walk-in-ho
	urs-1
LOCATION:Havenstraat 23A - Havenstraat 23A  Rotterdam Netherlands
STATUS:CONFIRMED
CATEGORIES:libspeciaal::source::radar,category::work space/diy,category::co
	urse/workshop,category::advice/help/office hours,libspeciaal::source::rada
	r::petteflet,topic::linux reticulum openwrt tech computers,libspeciaal::pr
	ice::free,libspeciaal::uid::57bbb598-8dcd-425c-8266-d10225cd4ea4,libspecia
	al::lastmod::1775855182,libspeciaal::url::https://radar.squat.net/en/event
	/rotterdam/petteflet/2026-04-22/reticulum-networking-linux-walk-hours
X-ALT-DESC;FMTTYPE=text/html:<p>Two weeks ago we explored what it's like to
	 message each other on reticulum via columba, attempted (and completely fa
	iled) to improve the wi-fi setup at Petteflet and brainstormed on what an 
	anarchist tech research/educational institute could look like and also wha
	t this event is even about. What's gonna happen this time? That's up to yo
	u!</p><br><p>-------------------------------------------------------------
	--------------------------------------------------------------------------
	-----</p><br><p>&nbsp;1. The city<br></p><p>We plug in the ethernet cable 
	into the wi-fi antenna we just set up and watch the LEDs light up. Six blu
	e lights, full troughput. We sense the data pouring trough the fiber veins
	 of the city. A digital mycelium network of pulsating light, information e
	xchange - right under our sidewalks, houses, roads. Data flowing trough un
	dersea cables, copper wires, and the ether, finally terminating in a small
	 box attached to the roof of the squat. Data - immaterial, untouchable, ab
	stract and immune to the cold December wind that's been bothering us for t
	he last hour.<br>On another roof down the street an identical wi-fi antenn
	a senses a new presence. The loneliness is over, time to say hi, perform a
	 handshake and begin a quiet radio conversation. Six blue lights.</p><br><
	p>Do you dare to take control of the infrastructure you and your communiti
	es rely on? To float through the rotting arteries the information superhig
	hway? To tune into the repulsive control exerted by the 'smart' city, by t
	he neoliberal sanitation of the old joyous internet? To make it your playg
	round? Abandon your human senses and become the machine?</p><br><p>2. The 
	n00b<br></p><p>Or maybe you just want to play and figure out what a router
	 does, how it works, and how you can use it for your own goals? Or better 
	yet, finally say goodbye to the surveillance-packed dumpster fire called W
	indows 11/Mac OS and take back control over your devices?</p><br><p>Either
	 way, come to Petteflet on a wednesday evening to <u>discover the freedom 
	of hacking software and hardware</u> and reclaim your digital autonomy. <u
	>All skill levels welcome and no previous experience required</u>. Bring a
	 funky gender and sprinkle some social awkwardness on top. This is your wa
	lk-in hours for <u>everything remotely computing related. Except issues wi
	th Windows/macOS</u>. That shit's beyond repair.</p><br><p>3. The SNOT<br>
	</p><p>A Squatter Network Operations Technician breaks more things than th
	ey fix. They cut the wrong cables, freestyle configurations and drop their
	 laptop in a pond. They release magic smoke from devices in an attempt to 
	bring them to life. Use the wrong tools for the job all the time. Eventual
	ly though a SNOT arrives at an answer to the question they themselves pose
	d and sometimes even understands how they got there. And occasionally they
	 come up with something useful.</p><br><p>Join the ranks of highly 31337 S
	quatter Network Operations Team and bite the technofeudalist hand that dis
	ciplines us. This is your moment to get into networking and build the infr
	astructures of tomorrow.&nbsp;</p><br><p>No matter where you go, everybody
	's connected.&nbsp;<br></p><p>image source: hackers (1995)</p><br>
BEGIN:VALARM
ACTION:DISPLAY
DESCRIPTION:Reticulum/Networking/Linux walk-in hours
TRIGGER:-PT1H
END:VALARM
END:VEVENT
END:VCALENDAR
