BEGIN:VCALENDAR
VERSION:2.0
CALSCALE:GREGORIAN
PRODID:adamgibbons/ics
METHOD:PUBLISH
X-PUBLISHED-TTL:PT1H
BEGIN:VEVENT
UID:599@backend.prikbord.page
SUMMARY:Sunday Matinee: Doom Fever + Beige + DJ Eli Hooper [Hiddenbehind x 
	Roodkapje]
DTSTAMP:20260420T222722Z
DTSTART:20260510T123000Z
DTEND:20260510T130000Z
DESCRIPTION:FFO: Dinosaur Jr\, Thrilled\, Zoning-Out\n\nSunday Matinée show
	 co-curated with Eli Hooper at the new RK location! Come for\nthe hair of 
	the dog with 2 Rotterdam-based acts that we have been excited about\nthis 
	season + a debut noise act birthed from Oud-charlois’ C3 studios. There\nw
	ill be Drone//Noise\, God-worshipping jazz\, and Shoegaze. It’s the day to
	 soak\nup the sun and be amongst friends.\n\nDOOM FEVER\nThree-piece guita
	r rock band that blends ’90s alternative and grunge with modern\nshoegaze.
	 Drawing inspiration from indie acts like Teenage Fanclub\, Screaming\nTre
	es\, and Dinosaur Jr.\, alongside modern outfits like Narrow Head\, Ovlov\
	, Big\nBite & Hotline TNT. The band is keen on fuzz-driven songs\, coiled 
	around\ncrashing\, splashing drums and lo-fi riffs punctuated by black hol
	e feedback\, yet\nstill finding grace in the chaos.\n\nBEIGE\nWe\, Beige\,
	 are a 4-piece indie shoegaze band based in Rotterdam. Inspired by the\nli
	kes of King Krule\, Sonic Youth\, and The Pixies\, Beige is our answer to 
	the\nspiritual debasement subjected to all on this earth\, to uplift our (
	shoe)gaze to\nGod via groove-heavy distortion and jazz chords.\n\nYES PLEA
	SE\nFinally\, whether you are citizens of America or citizens of the world
	\, ask of us\nhere the same high standards of strength and sacrifice which
	 we ask of you. With\na good conscience our only sure reward\, with histor
	y the final judge of our\ndeeds\, let us go forth to lead the land we love
	\, asking His blessing and His\nhelp\, but knowing that here on earth God’
	s work must truly be our own.\n\nPoster duties Eli Hooper\n\nDoors open 14
	:30\nShowtime 15:00\nPresale €5\nKeileweg 10a
URL:https://backend.prikbord.page/event/sunday-matinee-doom-fever-beige-dj-
	eli-hooper-hiddenbehind-x-roodkapje
GEO:51.909661;4.432299
LOCATION:Roodkapje West - Keileweg 10A 3029 BS\, Rotterdam
STATUS:CONFIRMED
CATEGORIES:libspeciaal::source::stager,libspeciaal::source::stager::roodkap
	je,Live,Significant others,libspeciaal::uid::roodkapje::111640347,libspeci
	aal::lastmod::1776259918510
X-ALT-DESC;FMTTYPE=text/html:<p>FFO: Dinosaur Jr, Thrilled, Zoning-Out</p><
	p>Sunday Matinée show co-curated with Eli Hooper at the new RK location! C
	ome for the hair of the dog with 2 Rotterdam-based acts that we have been 
	excited about this season + a debut noise act birthed from Oud-charlois’ C
	3 studios. There will be Drone//Noise, God-worshipping jazz, and Shoegaze.
	 It’s the day to soak up the sun and be amongst friends.</p><p>DOOM FEVER<
	br />Three-piece guitar rock band that blends ’90s alternative and grunge 
	with modern shoegaze. Drawing inspiration from indie acts like Teenage Fan
	club, Screaming Trees, and Dinosaur Jr., alongside modern outfits like Nar
	row Head, Ovlov, Big Bite &amp; Hotline TNT. The band is keen on fuzz-driv
	en songs, coiled around crashing, splashing drums and lo-fi riffs punctuat
	ed by black hole feedback, yet still finding grace in the chaos.</p><p>BEI
	GE<br />We, Beige, are a 4-piece indie shoegaze band based in Rotterdam. I
	nspired by the likes of King Krule, Sonic Youth, and The Pixies, Beige is 
	our answer to the spiritual debasement subjected to all on this earth, to 
	uplift our (shoe)gaze to God via groove-heavy distortion and jazz chords.<
	/p><p>YES PLEASE<br />Finally, whether you are citizens of America or citi
	zens of the world, ask of us here the same high standards of strength and 
	sacrifice which we ask of you. With a good conscience our only sure reward
	, with history the final judge of our deeds, let us go forth to lead the l
	and we love, asking His blessing and His help, but knowing that here on ea
	rth God’s work must truly be our own.</p><p>Poster duties Eli Hooper</p><p
	>Doors open 14:30<br />Showtime 15:00<br />Presale €5<br />Keileweg 10a</p
	>
BEGIN:VALARM
ACTION:DISPLAY
DESCRIPTION:Sunday Matinee: Doom Fever + Beige + DJ Eli Hooper [Hiddenbehin
	d x Roodkapje]
TRIGGER:-PT1H
END:VALARM
END:VEVENT
END:VCALENDAR
