BEGIN:VCALENDAR
VERSION:2.0
CALSCALE:GREGORIAN
PRODID:adamgibbons/ics
METHOD:PUBLISH
X-PUBLISHED-TTL:PT1H
BEGIN:VEVENT
UID:611@backend.prikbord.page
SUMMARY:📽️ Unusual Animation: shorts by Hermína Tyrlová
DTSTAMP:20260420T202041Z
DTSTART:20260517T174500Z
DTEND:20260518T174400Z
DESCRIPTION:Doors open: 19:30\nFilm + discussion: 20:00\n\nHermína Tyrlová 
	[https://en.wikipedia.org/wiki/Herm%C3%ADna_T%C3%BDrlov%C3%A1]\nis "the mo
	ther of Czech animation". We'll watch a selection of her animated\nshorts.
	\n\nPetteflet has a toilet\, a kettle & tea bags\, and a microwave to warm
	 up food. We\nare a vegetarian space\, so please do not bring any meat or 
	fish.\n\nUnusual Animation film nights are free weekly screenings of relat
	ively obscure\nanimated films.
URL:https://backend.prikbord.page/event/unusual-animation-shorts-by-hermina
	-tyrlova
LOCATION:Petteflet - Petteflet Havenstraat 23A  Rotterdam Netherlands
STATUS:CONFIRMED
CATEGORIES:libspeciaal::source::radar,libspeciaal::source::radar::petteflet
	,category::film,libspeciaal::price::free,libspeciaal::all_day::true,libspe
	ciaal::uid::44b1454a-4836-4b27-8747-df0e739afc10,libspeciaal::lastmod::177
	6256882,libspeciaal::url::https://radar.squat.net/en/event/rotterdam/pette
	flet/2026-05-17/unusual-animation-shorts-hermina-tyrlova
X-ALT-DESC;FMTTYPE=text/html:<p>Doors open: 19:30<br>Film + discussion: 20:
	00<br><br><a href="https://en.wikipedia.org/wiki/Herm%C3%ADna_T%C3%BDrlov%
	C3%A1">Hermína Tyrlová</a> is "the mother of Czech animation". We'll watch
	 a selection of her animated shorts.<br><br><strong>Petteflet</strong> has
	 a toilet, a kettle &amp; tea bags, and a microwave to warm up food. We ar
	e a vegetarian space, so please do not bring any meat or fish.<br><br><str
	ong>Unusual Animation</strong> film nights are free weekly screenings of r
	elatively obscure animated films.</p><br>
BEGIN:VALARM
ACTION:DISPLAY
DESCRIPTION:📽️ Unusual Animation: shorts by Hermína Tyrlová
TRIGGER:-PT1H
END:VALARM
END:VEVENT
END:VCALENDAR
