BEGIN:VCALENDAR
VERSION:2.0
CALSCALE:GREGORIAN
PRODID:adamgibbons/ics
METHOD:PUBLISH
X-PUBLISHED-TTL:PT1H
BEGIN:VEVENT
UID:613@backend.prikbord.page
SUMMARY:📽️ Unusual Animation: no film this week :(
DTSTAMP:20260420T221853Z
DTSTART:20260503T174500Z
DTEND:20260504T174400Z
URL:https://backend.prikbord.page/event/unusual-animation-no-film-this-week
LOCATION:Petteflet - Petteflet Havenstraat 23A  Rotterdam Netherlands
STATUS:CONFIRMED
CATEGORIES:category::film,libspeciaal::all_day::true,libspeciaal::lastmod::
	1776257073,libspeciaal::source::radar,libspeciaal::source::radar::pettefle
	t,libspeciaal::uid::42c6c57e-4b66-4d78-abd8-6acad415c540,libspeciaal::url:
	:https://radar.squat.net/en/event/rotterdam/petteflet/2026-05-03/unusual-a
	nimation-no-film-week
END:VEVENT
END:VCALENDAR
