BEGIN:VCALENDAR
VERSION:2.0
CALSCALE:GREGORIAN
PRODID:adamgibbons/ics
METHOD:PUBLISH
X-PUBLISHED-TTL:PT1H
BEGIN:VEVENT
UID:601@backend.prikbord.page
SUMMARY:(un)repair cafe
DTSTAMP:20260423T083744Z
DTSTART:20260507T163000Z
DTEND:20260507T193000Z
URL:https://backend.prikbord.page/event/unrepair-cafe-3
GEO:51.8766465;4.5242688
LOCATION:Catu - 11\, Catullusweg\, Homerusbuurt\, Lombardijen\, IJsselmonde
	\, Rotterdam\, Zuid-Holland\, Nederland\, 3076 KB\, Nederland
STATUS:CONFIRMED
CATEGORIES:libspeciaal::lastmod::1776518647,libspeciaal::link::https://cale
	ndar.klank.school/event/unrepair-cafe-34,libspeciaal::source::radar,libspe
	ciaal::source::radar::catu,libspeciaal::uid::4e4d1390-387d-4a35-99f3-2f9ec
	eaae3fa,libspeciaal::url::https://radar.squat.net/en/event/rotterdam/catu/
	2026-05-07/unrepair-cafe,topic::noise,topic::repair,topic::workshop
END:VEVENT
END:VCALENDAR
