BEGIN:VCALENDAR
VERSION:2.0
CALSCALE:GREGORIAN
PRODID:adamgibbons/ics
METHOD:PUBLISH
X-PUBLISHED-TTL:PT1H
BEGIN:VEVENT
UID:540@backend.prikbord.page
SUMMARY:General assembly and introduction moment
DTSTAMP:20260420T222854Z
DTSTART:20260426T150000Z
DTEND:20260426T180000Z
URL:https://backend.prikbord.page/event/general-assembly-and-introduction-m
	oment-8
LOCATION:Rotterdam - Rotterdam
STATUS:CONFIRMED
CATEGORIES:category::meeting,libspeciaal::email::buurtoren@riseup.net,libsp
	eciaal::lastmod::1763932165,libspeciaal::link::https://buurtoren.nl,libspe
	ciaal::price::free,libspeciaal::source::radar,libspeciaal::source::radar::
	buurtoren,libspeciaal::uid::916050ae-89b0-4e5c-ba6e-30435463e447,libspecia
	al::url::https://radar.squat.net/en/event/buurtoren/2026-04-26/general-ass
	embly-and-introduction-moment
END:VEVENT
BEGIN:VEVENT
UID:541@backend.prikbord.page
SUMMARY:🚧 Construction workgroup 🚧
DTSTAMP:20260420T222854Z
DTSTART:20260502T220000Z
DTEND:20260503T215900Z
URL:https://backend.prikbord.page/event/construction-workgroup-5
LOCATION:Rotterdam - Rotterdam
STATUS:CONFIRMED
CATEGORIES:category::work space/diy,libspeciaal::all_day::true,libspeciaal:
	:email::buurtoren@riseup.net,libspeciaal::lastmod::1771192560,libspeciaal:
	:link::https://buurtoren.nl,libspeciaal::price::free,libspeciaal::source::
	radar,libspeciaal::source::radar::buurtoren,libspeciaal::uid::d67a635b-64e
	7-4511-97df-1e013901478c,libspeciaal::url::https://radar.squat.net/en/even
	t/buurtoren/2026-05-03/construction-workgroup
END:VEVENT
BEGIN:VEVENT
UID:602@backend.prikbord.page
SUMMARY:General assembly and introduction moment
DTSTAMP:20260420T222854Z
DTSTART:20260510T150000Z
DTEND:20260510T180000Z
URL:https://backend.prikbord.page/event/general-assembly-and-introduction-m
	oment-10
LOCATION:Rotterdam - Rotterdam
STATUS:CONFIRMED
CATEGORIES:category::meeting,libspeciaal::email::buurtoren@riseup.net,libsp
	eciaal::lastmod::1763932165,libspeciaal::link::https://buurtoren.nl,libspe
	ciaal::price::free,libspeciaal::source::radar,libspeciaal::source::radar::
	buurtoren,libspeciaal::uid::cb084021-cd82-43f6-bf19-11637245c6e4,libspecia
	al::url::https://radar.squat.net/en/event/buurtoren/2026-05-10/general-ass
	embly-and-introduction-moment
END:VEVENT
BEGIN:VEVENT
UID:603@backend.prikbord.page
SUMMARY:🚧 Construction workgroup 🚧
DTSTAMP:20260420T222854Z
DTSTART:20260516T220000Z
DTEND:20260517T215900Z
URL:https://backend.prikbord.page/event/construction-workgroup-6
LOCATION:Rotterdam - Rotterdam
STATUS:CONFIRMED
CATEGORIES:category::work space/diy,libspeciaal::all_day::true,libspeciaal:
	:email::buurtoren@riseup.net,libspeciaal::lastmod::1771192560,libspeciaal:
	:link::https://buurtoren.nl,libspeciaal::price::free,libspeciaal::source::
	radar,libspeciaal::source::radar::buurtoren,libspeciaal::uid::2d265d05-14a
	c-49ed-8406-801c833dee60,libspeciaal::url::https://radar.squat.net/en/even
	t/buurtoren/2026-05-17/construction-workgroup
END:VEVENT
END:VCALENDAR
