BEGIN:VCALENDAR
VERSION:2.0
CALSCALE:GREGORIAN
PRODID:adamgibbons/ics
METHOD:PUBLISH
X-PUBLISHED-TTL:PT1H
BEGIN:VEVENT
UID:587@backend.prikbord.page
SUMMARY:(un)repair cafe
DTSTAMP:20260421T074650Z
DTSTART:20260423T163000Z
DTEND:20260423T193000Z
URL:https://backend.prikbord.page/event/unrepair-cafe-1
GEO:51.8766465;4.5242688
LOCATION:Catu - 11\, Catullusweg\, Homerusbuurt\, Lombardijen\, IJsselmonde
	\, Rotterdam\, Zuid-Holland\, Nederland\, 3076 KB\, Nederland
STATUS:CONFIRMED
CATEGORIES:libspeciaal::lastmod::1774647371,libspeciaal::link::https://cale
	ndar.klank.school/event/unrepair-cafe-32,libspeciaal::source::radar,libspe
	ciaal::source::radar::catu,libspeciaal::uid::000fa501-22d4-453a-9200-74e83
	0d383b8,libspeciaal::url::https://radar.squat.net/en/event/rotterdam/catu/
	2026-04-23/unrepair-cafe,topic::noise,topic::repair,topic::workshop
END:VEVENT
BEGIN:VEVENT
UID:588@backend.prikbord.page
SUMMARY:(un)repair cafe
DTSTAMP:20260421T074650Z
DTSTART:20260430T163000Z
DTEND:20260430T193000Z
URL:https://backend.prikbord.page/event/unrepair-cafe-8
GEO:51.8766465;4.5242688
LOCATION:Catu - 11\, Catullusweg\, Homerusbuurt\, Lombardijen\, IJsselmonde
	\, Rotterdam\, Zuid-Holland\, Nederland\, 3076 KB\, Nederland
STATUS:CONFIRMED
CATEGORIES:libspeciaal::lastmod::1774647371,libspeciaal::link::https://cale
	ndar.klank.school/event/unrepair-cafe-33,libspeciaal::source::radar,libspe
	ciaal::source::radar::catu,libspeciaal::uid::63f5aa66-5b0d-4f48-a5f8-a07fb
	b390657,libspeciaal::url::https://radar.squat.net/en/event/rotterdam/catu/
	2026-04-30/unrepair-cafe,topic::noise,topic::repair,topic::workshop
END:VEVENT
BEGIN:VEVENT
UID:601@backend.prikbord.page
SUMMARY:(un)repair cafe
DTSTAMP:20260421T074650Z
DTSTART:20260507T163000Z
DTEND:20260507T193000Z
URL:https://backend.prikbord.page/event/unrepair-cafe-3
GEO:51.8766465;4.5242688
LOCATION:Catu - 11\, Catullusweg\, Homerusbuurt\, Lombardijen\, IJsselmonde
	\, Rotterdam\, Zuid-Holland\, Nederland\, 3076 KB\, Nederland
STATUS:CONFIRMED
CATEGORIES:libspeciaal::lastmod::1776518647,libspeciaal::link::https://cale
	ndar.klank.school/event/unrepair-cafe-34,libspeciaal::source::radar,libspe
	ciaal::source::radar::catu,libspeciaal::uid::4e4d1390-387d-4a35-99f3-2f9ec
	eaae3fa,libspeciaal::url::https://radar.squat.net/en/event/rotterdam/catu/
	2026-05-07/unrepair-cafe,topic::noise,topic::repair,topic::workshop
END:VEVENT
END:VCALENDAR
