BEGIN:VCALENDAR
VERSION:2.0
CALSCALE:GREGORIAN
PRODID:adamgibbons/ics
METHOD:PUBLISH
X-PUBLISHED-TTL:PT1H
BEGIN:VEVENT
UID:561@backend.prikbord.page
SUMMARY:Food pick-up\, cleaning & sorting
DTSTAMP:20260420T235354Z
DTSTART:20260422T043000Z
DTEND:20260422T110000Z
URL:https://backend.prikbord.page/event/food-pick-up-cleaning-and-sorting
GEO:51.9172379;4.4644626
LOCATION:Snackbar Frieda - Snackbar Frieda Bajonetstraat 49  Rotterdam Neth
	erlands
STATUS:CONFIRMED
CATEGORIES:category::(free) shop/market,category::food,libspeciaal::lastmod
	::1775495703,libspeciaal::source::radar,libspeciaal::source::radar::snackb
	ar-frieda,libspeciaal::uid::a32af28e-8310-45c5-b306-a2d38b01019a,libspecia
	al::url::https://radar.squat.net/en/event/rotterdam/snackbar-frieda/2026-0
	4-22/food-pick-cleaning-sorting
END:VEVENT
BEGIN:VEVENT
UID:578@backend.prikbord.page
SUMMARY:Capitalism and mental health: short film + dialogue
DTSTAMP:20260420T235354Z
DTSTART:20260422T173000Z
DTEND:20260422T190000Z
URL:https://backend.prikbord.page/event/capitalism-and-mental-health-short-
	film-dialogue
GEO:51.9172379;4.4644626
LOCATION:Snackbar Frieda - Snackbar Frieda Bajonetstraat 49  Rotterdam Neth
	erlands
STATUS:CONFIRMED
CATEGORIES:category::discussion/presentation,category::film,libspeciaal::la
	stmod::1775498432,libspeciaal::source::radar,libspeciaal::source::radar::s
	nackbar-frieda,libspeciaal::uid::d0293b24-acbe-4978-b7d3-39f65843a76b,libs
	peciaal::url::https://radar.squat.net/en/event/rotterdam/snackbar-frieda/2
	026-04-22/capitalism-and-mental-health-short-film-dialogue
END:VEVENT
BEGIN:VEVENT
UID:565@backend.prikbord.page
SUMMARY:Sapphic & Squares
DTSTAMP:20260420T235354Z
DTSTART:20260423T170000Z
DTEND:20260423T190000Z
URL:https://backend.prikbord.page/event/sapphic-and-squares
GEO:51.9172379;4.4644626
LOCATION:Snackbar Frieda - Snackbar Frieda Bajonetstraat 49  Rotterdam Neth
	erlands
STATUS:CONFIRMED
CATEGORIES:category::course/workshop,category::meeting,category::work space
	/diy,libspeciaal::email::queerevents010@gmail.com,libspeciaal::lastmod::17
	75493836,libspeciaal::price::3-5 €,libspeciaal::price::5 + optional donati
	on,libspeciaal::price::more than 5 €,libspeciaal::source::radar,libspeciaa
	l::source::radar::snackbar-frieda,libspeciaal::uid::0dba29bf-f43b-41db-a68
	5-6735e51a4f22,libspeciaal::url::https://radar.squat.net/en/event/rotterda
	m/snackbar-frieda/2026-04-23/sapphic-squares
END:VEVENT
BEGIN:VEVENT
UID:562@backend.prikbord.page
SUMMARY:Snackbar is open
DTSTAMP:20260420T235354Z
DTSTART:20260424T140000Z
DTEND:20260424T180000Z
URL:https://backend.prikbord.page/event/snackbar-is-open-15
GEO:51.9172379;4.4644626
LOCATION:Snackbar Frieda - Snackbar Frieda Bajonetstraat 49  Rotterdam Neth
	erlands
STATUS:CONFIRMED
CATEGORIES:category::bar/cafe,category::food,libspeciaal::lastmod::17674445
	23,libspeciaal::price::by donation,libspeciaal::price::free,libspeciaal::s
	ource::radar,libspeciaal::source::radar::snackbar-frieda,libspeciaal::uid:
	:757466ab-2cc6-4e26-88de-ba9bced95af8,libspeciaal::url::https://radar.squa
	t.net/en/event/rotterdam/snackbar-frieda/2026-04-24/snackbar-open
END:VEVENT
BEGIN:VEVENT
UID:574@backend.prikbord.page
SUMMARY:Presentatie over dieren bevrijding
DTSTAMP:20260420T235354Z
DTSTART:20260424T181500Z
DTEND:20260424T194500Z
URL:https://backend.prikbord.page/event/presentatie-over-dieren-bevrijding
GEO:51.9172379;4.4644626
LOCATION:Snackbar Frieda - Snackbar Frieda Bajonetstraat 49  Rotterdam Neth
	erlands
STATUS:CONFIRMED
CATEGORIES:category::course/workshop,libspeciaal::lastmod::1775498648,libsp
	eciaal::source::radar,libspeciaal::source::radar::snackbar-frieda,libspeci
	aal::uid::7ff64284-7d69-4d91-a591-01b1b15d2503,libspeciaal::url::https://r
	adar.squat.net/en/event/rotterdam/snackbar-frieda/2026-04-24/presentatie-o
	ver-dieren-bevrijding
END:VEVENT
BEGIN:VEVENT
UID:568@backend.prikbord.page
SUMMARY:Maintenance & Cleaning day
DTSTAMP:20260420T235354Z
DTSTART:20260426T110000Z
DTEND:20260427T105900Z
URL:https://backend.prikbord.page/event/maintenance-and-cleaning-day-2
GEO:51.9172379;4.4644626
LOCATION:Snackbar Frieda - Snackbar Frieda Bajonetstraat 49  Rotterdam Neth
	erlands
STATUS:CONFIRMED
CATEGORIES:category::work space/diy,libspeciaal::all_day::true,libspeciaal:
	:lastmod::1767535314,libspeciaal::source::radar,libspeciaal::source::radar
	::snackbar-frieda,libspeciaal::uid::9afb0c4c-154d-4668-b7eb-44c70824f749,l
	ibspeciaal::url::https://radar.squat.net/en/event/rotterdam/snackbar-fried
	a/2026-04-26/maintenance-cleaning-day
END:VEVENT
BEGIN:VEVENT
UID:569@backend.prikbord.page
SUMMARY:Food pick-up\, cleaning & sorting
DTSTAMP:20260420T235354Z
DTSTART:20260429T043000Z
DTEND:20260429T110000Z
URL:https://backend.prikbord.page/event/food-pick-up-cleaning-and-sorting-1
GEO:51.9172379;4.4644626
LOCATION:Snackbar Frieda - Snackbar Frieda Bajonetstraat 49  Rotterdam Neth
	erlands
STATUS:CONFIRMED
CATEGORIES:category::(free) shop/market,category::food,libspeciaal::lastmod
	::1775495745,libspeciaal::source::radar,libspeciaal::source::radar::snackb
	ar-frieda,libspeciaal::uid::985708db-a5ec-48dc-a3c3-8808738ce85f,libspecia
	al::url::https://radar.squat.net/en/event/rotterdam/snackbar-frieda/2026-0
	4-29/food-pick-cleaning-sorting
END:VEVENT
BEGIN:VEVENT
UID:576@backend.prikbord.page
SUMMARY:Trans & Queer Asylum Seekers Helpdesk
DTSTAMP:20260420T235354Z
DTSTART:20260429T163000Z
DTEND:20260429T183000Z
URL:https://backend.prikbord.page/event/trans-and-queer-asylum-seekers-help
	desk
GEO:51.9172379;4.4644626
LOCATION:Snackbar Frieda - Snackbar Frieda Bajonetstraat 49  Rotterdam Neth
	erlands
STATUS:CONFIRMED
CATEGORIES:category::advice/help/office hours,libspeciaal::lastmod::1775498
	709,libspeciaal::source::radar,libspeciaal::source::radar::snackbar-frieda
	,libspeciaal::uid::31b61c59-e528-40aa-a2a2-243799a100cd,libspeciaal::url::
	https://radar.squat.net/en/event/rotterdam/snackbar-frieda/2026-04-29/tran
	s-queer-asylum-seekers-helpdesk
END:VEVENT
BEGIN:VEVENT
UID:579@backend.prikbord.page
SUMMARY:Snackbar is open
DTSTAMP:20260420T235354Z
DTSTART:20260501T140000Z
DTEND:20260501T180000Z
URL:https://backend.prikbord.page/event/snackbar-is-open-22
GEO:51.9172379;4.4644626
LOCATION:Snackbar Frieda - Snackbar Frieda Bajonetstraat 49  Rotterdam Neth
	erlands
STATUS:CONFIRMED
CATEGORIES:category::bar/cafe,category::food,libspeciaal::lastmod::17674445
	23,libspeciaal::price::by donation,libspeciaal::price::free,libspeciaal::s
	ource::radar,libspeciaal::source::radar::snackbar-frieda,libspeciaal::uid:
	:63fa00b4-fe88-43a6-89da-f2baadbc56e5,libspeciaal::url::https://radar.squa
	t.net/en/event/rotterdam/snackbar-frieda/2026-05-01/snackbar-open
END:VEVENT
BEGIN:VEVENT
UID:570@backend.prikbord.page
SUMMARY:Dismantle
DTSTAMP:20260420T235354Z
DTSTART:20260504T160000Z
DTEND:20260504T200000Z
URL:https://backend.prikbord.page/event/dismantle-1
GEO:51.9172379;4.4644626
LOCATION:Snackbar Frieda - Snackbar Frieda Bajonetstraat 49  Rotterdam Neth
	erlands
STATUS:CONFIRMED
CATEGORIES:category::discussion/presentation,libspeciaal::lastmod::17726384
	95,libspeciaal::price::by donation,libspeciaal::price::free,libspeciaal::s
	ource::radar,libspeciaal::source::radar::snackbar-frieda,libspeciaal::uid:
	:b9b26527-cb92-4149-b80d-ed6d49da4f67,libspeciaal::url::https://radar.squa
	t.net/en/event/rotterdam/snackbar-frieda/2026-05-04/dismantle
END:VEVENT
BEGIN:VEVENT
UID:584@backend.prikbord.page
SUMMARY:Bond Precaire Woonvormen Spreekuur
DTSTAMP:20260420T235354Z
DTSTART:20260505T180000Z
DTEND:20260506T175900Z
URL:https://backend.prikbord.page/event/bond-precaire-woonvormen-spreekuur-
	3
GEO:51.9172379;4.4644626
LOCATION:Snackbar Frieda - Snackbar Frieda Bajonetstraat 49  Rotterdam Neth
	erlands
STATUS:CONFIRMED
CATEGORIES:category::advice/help/office hours,libspeciaal::all_day::true,li
	bspeciaal::lastmod::1764165087,libspeciaal::price::free,libspeciaal::sourc
	e::radar,libspeciaal::source::radar::snackbar-frieda,libspeciaal::uid::0f6
	accae-0152-4f4d-89b4-d3bfac6b0e07,libspeciaal::url::https://radar.squat.ne
	t/en/event/rotterdam/snackbar-frieda/2026-05-05/bond-precaire-woonvormen-s
	preekuur
END:VEVENT
BEGIN:VEVENT
UID:629@backend.prikbord.page
SUMMARY:Snackbar is open
DTSTAMP:20260420T235354Z
DTSTART:20260508T140000Z
DTEND:20260508T180000Z
URL:https://backend.prikbord.page/event/snackbar-is-open-26
GEO:51.9172379;4.4644626
LOCATION:Snackbar Frieda - Snackbar Frieda Bajonetstraat 49  Rotterdam Neth
	erlands
STATUS:CONFIRMED
CATEGORIES:category::bar/cafe,category::food,libspeciaal::lastmod::17674445
	23,libspeciaal::price::by donation,libspeciaal::price::free,libspeciaal::s
	ource::radar,libspeciaal::source::radar::snackbar-frieda,libspeciaal::uid:
	:4826a62a-8343-40b0-b58f-884318e92530,libspeciaal::url::https://radar.squa
	t.net/en/event/rotterdam/snackbar-frieda/2026-05-08/snackbar-open
END:VEVENT
BEGIN:VEVENT
UID:630@backend.prikbord.page
SUMMARY:Snackbar is open
DTSTAMP:20260420T235354Z
DTSTART:20260515T140000Z
DTEND:20260515T180000Z
URL:https://backend.prikbord.page/event/snackbar-is-open-27
GEO:51.9172379;4.4644626
LOCATION:Snackbar Frieda - Snackbar Frieda Bajonetstraat 49  Rotterdam Neth
	erlands
STATUS:CONFIRMED
CATEGORIES:category::bar/cafe,category::food,libspeciaal::lastmod::17674445
	23,libspeciaal::price::by donation,libspeciaal::price::free,libspeciaal::s
	ource::radar,libspeciaal::source::radar::snackbar-frieda,libspeciaal::uid:
	:79f63322-65de-41a6-8c43-ec8ec3ba426b,libspeciaal::url::https://radar.squa
	t.net/en/event/rotterdam/snackbar-frieda/2026-05-15/snackbar-open
END:VEVENT
END:VCALENDAR
