BEGIN:VCALENDAR
VERSION:2.0
CALSCALE:GREGORIAN
PRODID:adamgibbons/ics
METHOD:PUBLISH
X-PUBLISHED-TTL:PT1H
BEGIN:VEVENT
UID:606@backend.prikbord.page
SUMMARY:Open Werkplaats
DTSTAMP:20260421T001010Z
DTSTART:20260512T160000Z
DTEND:20260512T190000Z
URL:https://backend.prikbord.page/event/open-werkplaats-25
GEO:51.9304095;4.4720642
LOCATION:Doe-het-zelf Werkplaats - Doe-het-zelf Werkplaats Schout Heynricst
	raat  Rotterdam Nederland
STATUS:CONFIRMED
CATEGORIES:category::advice/help/office hours,category::work space/diy,libs
	peciaal::email::doehetzelfwerkplaats@gmail.com,libspeciaal::lastmod::17746
	26737,libspeciaal::link::https://radar.squat.net/en/doehetzelfwerkplaats.s
	pace,libspeciaal::price::by donation,libspeciaal::price::free,libspeciaal:
	:source::radar,libspeciaal::source::radar::dhz-werkplaats,libspeciaal::uid
	::12c1a97a-42eb-429b-8790-a46cbfe4a6e1,libspeciaal::url::https://radar.squ
	at.net/en/event/rotterdam/doe-het-zelf-werkplaats/2026-05-12/open-werkplaa
	ts
END:VEVENT
END:VCALENDAR
