BEGIN:VCALENDAR
VERSION:2.0
CALSCALE:GREGORIAN
PRODID:adamgibbons/ics
METHOD:PUBLISH
X-PUBLISHED-TTL:PT1H
BEGIN:VEVENT
UID:627@backend.prikbord.page
SUMMARY:Queer Bashback
DTSTAMP:20260421T020352Z
DTSTART:20260513T170000Z
DTEND:20260513T183000Z
URL:https://backend.prikbord.page/event/queer-bashback-7
GEO:51.8766465;4.5242688
LOCATION:Catu - 11\, Catullusweg\, Homerusbuurt\, Lombardijen\, IJsselmonde
	\, Rotterdam\, Zuid-Holland\, Nederland\, 3076 KB\, Nederland
STATUS:CONFIRMED
CATEGORIES:category::course/workshop,libspeciaal::lastmod::1774815717,libsp
	eciaal::price::free,libspeciaal::source::radar,libspeciaal::source::radar:
	:rdam-alt-events,libspeciaal::uid::2a53d4e7-0516-4ad4-9485-8e172f9cf82d,li
	bspeciaal::url::https://radar.squat.net/en/event/rotterdam/rotterdam-alter
	native-events/2026-05-13/queer-bashback
END:VEVENT
END:VCALENDAR
