BEGIN:VCALENDAR
VERSION:2.0
CALSCALE:GREGORIAN
PRODID:adamgibbons/ics
METHOD:PUBLISH
X-PUBLISHED-TTL:PT1H
BEGIN:VEVENT
UID:617@backend.prikbord.page
SUMMARY:Giveaway shop 'Delen is Helen' - Open hours
DTSTAMP:20260420T222227Z
DTSTART:20260516T100000Z
DTEND:20260516T140000Z
URL:https://backend.prikbord.page/event/giveaway-shop-delen-is-helen-open-h
	ours-16
LOCATION:Weggeefwinkel Noord - Weggeefwinkel Noord Schoterbosstraat 4  Rott
	erdam Netherlands
STATUS:CONFIRMED
CATEGORIES:category::(free) shop/market,libspeciaal::email::email@v-annemar
	ie.nl,libspeciaal::lastmod::1771190462,libspeciaal::link::https://wgwpodiu
	m.nl/winkel/,libspeciaal::price::free,libspeciaal::source::radar,libspecia
	al::source::radar::rdam-alt-events,libspeciaal::uid::41c58265-47e6-48eb-9a
	b9-68b0c80b0da6,libspeciaal::url::https://radar.squat.net/en/event/rotterd
	am/rotterdam-alternative-events/2026-05-16/giveaway-shop-delen-helen-open-
	hours
END:VEVENT
END:VCALENDAR
