BEGIN:VCALENDAR
VERSION:2.0
CALSCALE:GREGORIAN
PRODID:adamgibbons/ics
METHOD:PUBLISH
X-PUBLISHED-TTL:PT1H
BEGIN:VEVENT
UID:609@backend.prikbord.page
SUMMARY:📽️ Unusual Animation: "Azur et Asmar" (2006)
DTSTAMP:20260420T222108Z
DTSTART:20260510T174500Z
DTEND:20260511T174400Z
URL:https://backend.prikbord.page/event/unusual-animation-azur-et-asmar-200
	6
LOCATION:Petteflet - Petteflet Havenstraat 23A  Rotterdam Netherlands
STATUS:CONFIRMED
CATEGORIES:category::film,libspeciaal::all_day::true,libspeciaal::lastmod::
	1776282612,libspeciaal::price::free,libspeciaal::source::radar,libspeciaal
	::source::radar::petteflet,libspeciaal::uid::c268730e-5853-4ac4-824e-4f8ca
	5e671c8,libspeciaal::url::https://radar.squat.net/en/event/rotterdam/pette
	flet/2026-05-10/unusual-animation-azur-et-asmar-2006
END:VEVENT
END:VCALENDAR
