BEGIN:VCALENDAR
VERSION:2.0
CALSCALE:GREGORIAN
PRODID:adamgibbons/ics
METHOD:PUBLISH
X-PUBLISHED-TTL:PT1H
BEGIN:VEVENT
UID:596@backend.prikbord.page
SUMMARY:Supermarkt\, Blitzer\, Hondenfokker\, DJ CVPID [Pretty//ugly]
DTSTAMP:20260421T000818Z
DTSTART:20260515T193000Z
DTEND:20260515T230000Z
URL:https://backend.prikbord.page/event/supermarkt-blitzer-hondenfokker-pre
	ttyugly
GEO:51.909661;4.432299
LOCATION:Roodkapje West - Keileweg 10A 3029 BS\, Rotterdam
STATUS:CONFIRMED
CATEGORIES:Live,Significant others,libspeciaal::lastmod::1776084260421,libs
	peciaal::source::stager,libspeciaal::source::stager::roodkapje,libspeciaal
	::uid::roodkapje::111628682
END:VEVENT
END:VCALENDAR
